BEGIN:VCALENDAR
VERSION:2.0
PRODID:-//FMP - ECPv6.15.15//NONSGML v1.0//EN
CALSCALE:GREGORIAN
METHOD:PUBLISH
X-WR-CALNAME:FMP
X-ORIGINAL-URL:https://fmp.org.mx
X-WR-CALDESC:Eventos para FMP
REFRESH-INTERVAL;VALUE=DURATION:PT1H
X-Robots-Tag:noindex
X-PUBLISHED-TTL:PT1H
BEGIN:VTIMEZONE
TZID:America/Mexico_City
BEGIN:DAYLIGHT
TZOFFSETFROM:-0600
TZOFFSETTO:-0500
TZNAME:CDT
DTSTART:20220403T080000
END:DAYLIGHT
BEGIN:STANDARD
TZOFFSETFROM:-0500
TZOFFSETTO:-0600
TZNAME:CST
DTSTART:20221030T070000
END:STANDARD
END:VTIMEZONE
BEGIN:VEVENT
DTSTART;VALUE=DATE:20231227
DTEND;VALUE=DATE:20240104
DTSTAMP:20260424T113051
CREATED:20230803T141129Z
LAST-MODIFIED:20230803T141129Z
UID:18789-1703635200-1704326399@fmp.org.mx
SUMMARY:COPA AÑO NUEVO CAREYES
DESCRIPTION:
URL:https://fmp.org.mx/evento/copa-ano-nuevo-careyes-2/
END:VEVENT
END:VCALENDAR