BEGIN:VCALENDAR
VERSION:2.0
PRODID:-//FMP - ECPv6.15.15//NONSGML v1.0//EN
CALSCALE:GREGORIAN
METHOD:PUBLISH
X-ORIGINAL-URL:https://fmp.org.mx
X-WR-CALDESC:Eventos para FMP
REFRESH-INTERVAL;VALUE=DURATION:PT1H
X-Robots-Tag:noindex
X-PUBLISHED-TTL:PT1H
BEGIN:VTIMEZONE
TZID:America/Mexico_City
BEGIN:STANDARD
TZOFFSETFROM:-0600
TZOFFSETTO:-0600
TZNAME:CST
DTSTART:20230101T000000
END:STANDARD
END:VTIMEZONE
BEGIN:VEVENT
DTSTART;VALUE=DATE:20240215
DTEND;VALUE=DATE:20240219
DTSTAMP:20260424T095427
CREATED:20230801T161414Z
LAST-MODIFIED:20230801T161414Z
UID:18693-1707955200-1708300799@fmp.org.mx
SUMMARY:EL BOSQUE LEÓN POLO CUP
DESCRIPTION:
URL:https://fmp.org.mx/evento/el-bosque-leon-polo-cup/
END:VEVENT
BEGIN:VEVENT
DTSTART;VALUE=DATE:20240215
DTEND;VALUE=DATE:20240219
DTSTAMP:20260424T095427
CREATED:20230803T141438Z
LAST-MODIFIED:20230803T141438Z
UID:18795-1707955200-1708300799@fmp.org.mx
SUMMARY:EL BOSQUE LEÓN POLO CUP
DESCRIPTION:
URL:https://fmp.org.mx/evento/el-bosque-leon-polo-cup-2/
END:VEVENT
END:VCALENDAR