BEGIN:VCALENDAR
VERSION:2.0
PRODID:-//FMP - ECPv6.15.15//NONSGML v1.0//EN
CALSCALE:GREGORIAN
METHOD:PUBLISH
X-WR-CALNAME:FMP
X-ORIGINAL-URL:https://fmp.org.mx
X-WR-CALDESC:Eventos para FMP
REFRESH-INTERVAL;VALUE=DURATION:PT1H
X-Robots-Tag:noindex
X-PUBLISHED-TTL:PT1H
BEGIN:VTIMEZONE
TZID:America/Mexico_City
BEGIN:STANDARD
TZOFFSETFROM:-0600
TZOFFSETTO:-0600
TZNAME:CST
DTSTART:20230101T000000
END:STANDARD
END:VTIMEZONE
BEGIN:VEVENT
DTSTART;VALUE=DATE:20240313
DTEND;VALUE=DATE:20240317
DTSTAMP:20260424T082451
CREATED:20230801T161511Z
LAST-MODIFIED:20230801T161511Z
UID:18696-1710288000-1710633599@fmp.org.mx
SUMMARY:COPA RIBERA DEL DUERO
DESCRIPTION:
URL:https://fmp.org.mx/evento/copa-ribera-del-duero/
END:VEVENT
END:VCALENDAR