BEGIN:VCALENDAR
VERSION:2.0
PRODID:-//FMP - ECPv6.15.15//NONSGML v1.0//EN
CALSCALE:GREGORIAN
METHOD:PUBLISH
X-WR-CALNAME:FMP
X-ORIGINAL-URL:https://fmp.org.mx
X-WR-CALDESC:Eventos para FMP
REFRESH-INTERVAL;VALUE=DURATION:PT1H
X-Robots-Tag:noindex
X-PUBLISHED-TTL:PT1H
BEGIN:VTIMEZONE
TZID:America/Chicago
BEGIN:DAYLIGHT
TZOFFSETFROM:-0600
TZOFFSETTO:-0500
TZNAME:CDT
DTSTART:20240310T080000
END:DAYLIGHT
BEGIN:STANDARD
TZOFFSETFROM:-0500
TZOFFSETTO:-0600
TZNAME:CST
DTSTART:20241103T070000
END:STANDARD
BEGIN:DAYLIGHT
TZOFFSETFROM:-0600
TZOFFSETTO:-0500
TZNAME:CDT
DTSTART:20250309T080000
END:DAYLIGHT
BEGIN:STANDARD
TZOFFSETFROM:-0500
TZOFFSETTO:-0600
TZNAME:CST
DTSTART:20251102T070000
END:STANDARD
BEGIN:DAYLIGHT
TZOFFSETFROM:-0600
TZOFFSETTO:-0500
TZNAME:CDT
DTSTART:20260308T080000
END:DAYLIGHT
BEGIN:STANDARD
TZOFFSETFROM:-0500
TZOFFSETTO:-0600
TZNAME:CST
DTSTART:20261101T070000
END:STANDARD
END:VTIMEZONE
BEGIN:VEVENT
DTSTART;TZID=America/Chicago:20251112T120000
DTEND;TZID=America/Chicago:20251122T170000
DTSTAMP:20260424T180824
CREATED:20250909T011107Z
LAST-MODIFIED:20250911T043124Z
UID:20315-1762948800-1763830800@fmp.org.mx
SUMMARY:ABIERTO DE TECÁMAC 2025
DESCRIPTION:
URL:https://fmp.org.mx/evento/copa-conade-4/
LOCATION:CLUB DE POLO TECAMAC\, TECAMAC\, Estado De México\, México
ATTACH;FMTTYPE=image/jpeg:https://fmp.org.mx/wp-content/uploads/2025/09/WhatsApp-Image-2025-09-10-at-10.27.43-PM.jpeg
END:VEVENT
BEGIN:VEVENT
DTSTART;TZID=America/Chicago:20251115T100000
DTEND;TZID=America/Chicago:20251116T170000
DTSTAMP:20260424T180824
CREATED:20251105T200920Z
LAST-MODIFIED:20251105T200920Z
UID:20391-1763200800-1763312400@fmp.org.mx
SUMMARY:POLO INVITATIONAL VALLE DE BRAVO
DESCRIPTION:
URL:https://fmp.org.mx/evento/polo-invitational-valle-de-bravo/
LOCATION:VALLE DE BRAVO POLO CLUB\, Carretera Valle de Bravo-Temascaltepec\, Temascaltepec\, 51200\, Mexico
ATTACH;FMTTYPE=image/jpeg:https://fmp.org.mx/wp-content/uploads/2025/11/WhatsApp-Image-2025-11-05-at-2.06.13-PM.jpeg
END:VEVENT
END:VCALENDAR