BEGIN:VCALENDAR
VERSION:2.0
PRODID:-//FMP - ECPv6.15.15//NONSGML v1.0//EN
CALSCALE:GREGORIAN
METHOD:PUBLISH
X-WR-CALNAME:FMP
X-ORIGINAL-URL:https://fmp.org.mx
X-WR-CALDESC:Eventos para FMP
REFRESH-INTERVAL;VALUE=DURATION:PT1H
X-Robots-Tag:noindex
X-PUBLISHED-TTL:PT1H
BEGIN:VTIMEZONE
TZID:America/Chicago
BEGIN:DAYLIGHT
TZOFFSETFROM:-0600
TZOFFSETTO:-0500
TZNAME:CDT
DTSTART:20250309T080000
END:DAYLIGHT
BEGIN:STANDARD
TZOFFSETFROM:-0500
TZOFFSETTO:-0600
TZNAME:CST
DTSTART:20251102T070000
END:STANDARD
BEGIN:DAYLIGHT
TZOFFSETFROM:-0600
TZOFFSETTO:-0500
TZNAME:CDT
DTSTART:20260308T080000
END:DAYLIGHT
BEGIN:STANDARD
TZOFFSETFROM:-0500
TZOFFSETTO:-0600
TZNAME:CST
DTSTART:20261101T070000
END:STANDARD
BEGIN:DAYLIGHT
TZOFFSETFROM:-0600
TZOFFSETTO:-0500
TZNAME:CDT
DTSTART:20270314T080000
END:DAYLIGHT
BEGIN:STANDARD
TZOFFSETFROM:-0500
TZOFFSETTO:-0600
TZNAME:CST
DTSTART:20271107T070000
END:STANDARD
END:VTIMEZONE
BEGIN:VEVENT
DTSTART;TZID=America/Chicago:20260129T120000
DTEND;TZID=America/Chicago:20260131T170000
DTSTAMP:20260425T090428
CREATED:20250909T005123Z
LAST-MODIFIED:20250909T005241Z
UID:20288-1769688000-1769878800@fmp.org.mx
SUMMARY:COCO COPA DE POLO 7A. EDICIÓN
DESCRIPTION:
URL:https://fmp.org.mx/evento/copa-reyes-magos-5ta-edicion/
LOCATION:TIERRA TROPICAL POLO CLUB
END:VEVENT
BEGIN:VEVENT
DTSTART;TZID=America/Chicago:20260213T080000
DTEND;TZID=America/Chicago:20260222T170000
DTSTAMP:20260425T090428
CREATED:20250930T023527Z
LAST-MODIFIED:20250930T023527Z
UID:20343-1770969600-1771779600@fmp.org.mx
SUMMARY:AÑO NUEVO CHINO CAREYES
DESCRIPTION:
URL:https://fmp.org.mx/evento/ano-nuevo-chino-careyes-2/
LOCATION:COSTA CAREYES POLO CLUB\, CAREYES\, JALISCO\, México
END:VEVENT
BEGIN:VEVENT
DTSTART;TZID=America/Chicago:20260215T100000
DTEND;TZID=America/Chicago:20260215T170000
DTSTAMP:20260425T090428
CREATED:20250909T005423Z
LAST-MODIFIED:20250909T005430Z
UID:20295-1771149600-1771174800@fmp.org.mx
SUMMARY:COPA AMISTAD
DESCRIPTION:
URL:https://fmp.org.mx/evento/copa-amistad/
LOCATION:TIERRA TROPICAL POLO CLUB
END:VEVENT
BEGIN:VEVENT
DTSTART;TZID=America/Chicago:20260304T080000
DTEND;TZID=America/Chicago:20260304T170000
DTSTAMP:20260425T090428
CREATED:20260304T154048Z
LAST-MODIFIED:20260304T154048Z
UID:20529-1772611200-1772643600@fmp.org.mx
SUMMARY:PINK POLO MÉXICO 2026
DESCRIPTION:
URL:https://fmp.org.mx/evento/pink-polo-mexico-2026/
END:VEVENT
BEGIN:VEVENT
DTSTART;TZID=America/Chicago:20260312T100000
DTEND;TZID=America/Chicago:20260315T170000
DTSTAMP:20260425T090428
CREATED:20250909T005534Z
LAST-MODIFIED:20250909T005534Z
UID:20297-1773309600-1773594000@fmp.org.mx
SUMMARY:COPA MUJERES
DESCRIPTION:EN HONOR A SUSAN STOVALL
URL:https://fmp.org.mx/evento/copa-mujeres/
LOCATION:TIERRA TROPICAL POLO CLUB
END:VEVENT
BEGIN:VEVENT
DTSTART;TZID=America/Chicago:20260316T080000
DTEND;TZID=America/Chicago:20260322T170000
DTSTAMP:20260425T090428
CREATED:20250930T023624Z
LAST-MODIFIED:20250930T023624Z
UID:20345-1773648000-1774198800@fmp.org.mx
SUMMARY:GIULIANA CUP
DESCRIPTION:
URL:https://fmp.org.mx/evento/giuliana-cup/
LOCATION:COSTA CAREYES POLO CLUB\, CAREYES\, JALISCO\, México
END:VEVENT
BEGIN:VEVENT
DTSTART;TZID=America/Chicago:20260321T100000
DTEND;TZID=America/Chicago:20260321T170000
DTSTAMP:20260425T090428
CREATED:20250909T005648Z
LAST-MODIFIED:20250909T005704Z
UID:20299-1774087200-1774112400@fmp.org.mx
SUMMARY:COLORES SAN PANCHO 4TA. EDICIÓN
DESCRIPTION:
URL:https://fmp.org.mx/evento/colores-san-pancho-2/
LOCATION:TIERRA TROPICAL POLO CLUB
END:VEVENT
BEGIN:VEVENT
DTSTART;TZID=America/Chicago:20260328T080000
DTEND;TZID=America/Chicago:20260404T170000
DTSTAMP:20260425T090428
CREATED:20250930T023958Z
LAST-MODIFIED:20250930T024004Z
UID:20350-1774684800-1775322000@fmp.org.mx
SUMMARY:XXVI COPA AGUA ALTA
DESCRIPTION:
URL:https://fmp.org.mx/evento/xxvi-copa-agua-alta/
LOCATION:COSTA CAREYES POLO CLUB\, CAREYES\, JALISCO\, México
END:VEVENT
BEGIN:VEVENT
DTSTART;TZID=America/Chicago:20260405T100000
DTEND;TZID=America/Chicago:20260405T170000
DTSTAMP:20260425T090428
CREATED:20250909T005800Z
LAST-MODIFIED:20250909T005800Z
UID:20302-1775383200-1775408400@fmp.org.mx
SUMMARY:COPA PASCUA 5TA EDICIÓN
DESCRIPTION:
URL:https://fmp.org.mx/evento/copa-pascua-5ta-edicion/
LOCATION:TIERRA TROPICAL POLO CLUB
END:VEVENT
BEGIN:VEVENT
DTSTART;TZID=America/Chicago:20260407T080000
DTEND;TZID=America/Chicago:20260409T170000
DTSTAMP:20260425T090428
CREATED:20250930T023708Z
LAST-MODIFIED:20250930T023708Z
UID:20347-1775548800-1775754000@fmp.org.mx
SUMMARY:KIDS TOURNAMENT CAREYES
DESCRIPTION:
URL:https://fmp.org.mx/evento/kids-tournament-careyes/
LOCATION:COSTA CAREYES POLO CLUB\, CAREYES\, JALISCO\, México
END:VEVENT
BEGIN:VEVENT
DTSTART;TZID=America/Chicago:20260425T100000
DTEND;TZID=America/Chicago:20260426T170000
DTSTAMP:20260425T090428
CREATED:20250909T005853Z
LAST-MODIFIED:20250909T005853Z
UID:20304-1777111200-1777222800@fmp.org.mx
SUMMARY:COPA DEL DÍA DEL NIÑO
DESCRIPTION:
URL:https://fmp.org.mx/evento/copa-del-dia-del-nino/
LOCATION:TIERRA TROPICAL POLO CLUB
END:VEVENT
BEGIN:VEVENT
DTSTART;TZID=America/Chicago:20260430T100000
DTEND;TZID=America/Chicago:20260503T170000
DTSTAMP:20260425T090428
CREATED:20250909T005942Z
LAST-MODIFIED:20250909T010015Z
UID:20306-1777543200-1777827600@fmp.org.mx
SUMMARY:COPA JAGUAR 5TA. EDICIÓN
DESCRIPTION:
URL:https://fmp.org.mx/evento/copa-jaguar-2/
LOCATION:TIERRA TROPICAL POLO CLUB
END:VEVENT
BEGIN:VEVENT
DTSTART;TZID=America/Chicago:20260606T100000
DTEND;TZID=America/Chicago:20260606T170000
DTSTAMP:20260425T090428
CREATED:20250909T010109Z
LAST-MODIFIED:20250909T010109Z
UID:20309-1780740000-1780765200@fmp.org.mx
SUMMARY:SONIDOS DE SAN PANCHO 4TA. EDICIÓN
DESCRIPTION:
URL:https://fmp.org.mx/evento/sonidos-de-san-pancho-4ta-edicion/
LOCATION:TIERRA TROPICAL POLO CLUB
END:VEVENT
END:VCALENDAR