BEGIN:VCALENDAR
VERSION:2.0
PRODID:-//FMP - ECPv6.15.15//NONSGML v1.0//EN
CALSCALE:GREGORIAN
METHOD:PUBLISH
X-ORIGINAL-URL:https://fmp.org.mx
X-WR-CALDESC:Eventos para FMP
REFRESH-INTERVAL;VALUE=DURATION:PT1H
X-Robots-Tag:noindex
X-PUBLISHED-TTL:PT1H
BEGIN:VTIMEZONE
TZID:America/Chicago
BEGIN:DAYLIGHT
TZOFFSETFROM:-0600
TZOFFSETTO:-0500
TZNAME:CDT
DTSTART:20230312T080000
END:DAYLIGHT
BEGIN:STANDARD
TZOFFSETFROM:-0500
TZOFFSETTO:-0600
TZNAME:CST
DTSTART:20231105T070000
END:STANDARD
BEGIN:DAYLIGHT
TZOFFSETFROM:-0600
TZOFFSETTO:-0500
TZNAME:CDT
DTSTART:20240310T080000
END:DAYLIGHT
BEGIN:STANDARD
TZOFFSETFROM:-0500
TZOFFSETTO:-0600
TZNAME:CST
DTSTART:20241103T070000
END:STANDARD
BEGIN:DAYLIGHT
TZOFFSETFROM:-0600
TZOFFSETTO:-0500
TZNAME:CDT
DTSTART:20250309T080000
END:DAYLIGHT
BEGIN:STANDARD
TZOFFSETFROM:-0500
TZOFFSETTO:-0600
TZNAME:CST
DTSTART:20251102T070000
END:STANDARD
BEGIN:DAYLIGHT
TZOFFSETFROM:-0600
TZOFFSETTO:-0500
TZNAME:CDT
DTSTART:20260308T080000
END:DAYLIGHT
BEGIN:STANDARD
TZOFFSETFROM:-0500
TZOFFSETTO:-0600
TZNAME:CST
DTSTART:20261101T070000
END:STANDARD
END:VTIMEZONE
BEGIN:VTIMEZONE
TZID:UTC
BEGIN:STANDARD
TZOFFSETFROM:+0000
TZOFFSETTO:+0000
TZNAME:UTC
DTSTART:20230101T000000
END:STANDARD
END:VTIMEZONE
BEGIN:VEVENT
DTSTART;TZID=America/Chicago:20240824T120000
DTEND;TZID=America/Chicago:20240825T180000
DTSTAMP:20260425T111220
CREATED:20240814T002557Z
LAST-MODIFIED:20240814T002615Z
UID:19350-1724500800-1724608800@fmp.org.mx
SUMMARY:POLO EN DUNAS
DESCRIPTION:
URL:https://fmp.org.mx/evento/polo-en-dunas/
ATTACH;FMTTYPE=image/jpeg:https://fmp.org.mx/wp-content/uploads/2024/08/WhatsApp-Image-2024-08-13-at-6.14.13-PM.jpeg
END:VEVENT
BEGIN:VEVENT
DTSTART;TZID=America/Chicago:20240907T123000
DTEND;TZID=America/Chicago:20240907T210000
DTSTAMP:20260425T111220
CREATED:20240903T042754Z
LAST-MODIFIED:20240903T042754Z
UID:19446-1725712200-1725742800@fmp.org.mx
SUMMARY:COPA INDEPENDENCIA
DESCRIPTION:
URL:https://fmp.org.mx/evento/copa-independencia/
LOCATION:YUCATAN POLO CLUB\, MERIDA\, YUCATAN\, YUCATAN\, México
ATTACH;FMTTYPE=image/jpeg:https://fmp.org.mx/wp-content/uploads/2024/09/WhatsApp-Image-2024-08-21-at-9.31.41-AM.jpeg
END:VEVENT
BEGIN:VEVENT
DTSTART;TZID=America/Chicago:20240911T120000
DTEND;TZID=America/Chicago:20240914T210000
DTSTAMP:20260425T111220
CREATED:20240723T221306Z
LAST-MODIFIED:20240801T230415Z
UID:19274-1726056000-1726347600@fmp.org.mx
SUMMARY:COPA DE LA HERMANDAD -MADRID
DESCRIPTION:MADRID SE PREPARA PARA RECIBIR LA COPA DE POLO DE LA HERMANDAD  ENTRE MÉXICO Y ESPAÑA. \nMadrid\, España. Por primera vez en la historia\, Madrid será el escenario de la "COPA DE POLO DE LA HERMANDAD- NAYARIT"\, un evento que une a España y México para promover el llamado "deporte de reyes" en la capital española. Este torneo único busca estrechar las relaciones deportivas\, sociales y culturales entre ambos países. \nLa "COPA DE POLO DE LA HERMANDAD- NAYARIT" cuenta con la autorización de la Real Federación Española de Polo y la Federación Mexicana de Polo\, consolidando así un evento de gran importancia y reconocimiento internacional. El torneo se celebrará en el mes de septiembre como parte de los festejos de la Independencia de México\, con LOS MARIACHIS POLO CLUB MADRID como sede principal. \nEl patrocinador principal del evento es el ESTADO DE NAYARIT\, conocido por ser un destino excepcional en México que se vincula estrechamente al polo y a la promoción de su rica cultura en España. A través de su apoyo a los deportes ecuestres\, Nayarit busca fortalecer su presencia internacional y fomentar el turismo\, destacando sus impresionantes paisajes y su vibrante oferta cultural. \nEl evento\, organizado por MEXICO POLO LIFE\, HAT & HORSES y YA TENGO PLAN  espera recibir cerca de mil asistentes que podrán disfrutar de una jornada repleta de emociones\, gastronomía\, cultura\, música y moda. \nCon el concepto HAT & HORSES\, y en alianza con MEXICO POLO LIFE\, se estrechan lazos para vincular el mundo ecuestre y la moda\, siguiendo el éxito de ediciones anteriores en Barcelona\, Menorca\, Londres\, Dubai y próximamente en la Riviera Nayarit en México\, en la primavera de 2025. \nClub Anfitrión: \nLos Mariachis Madrid Polo & Equestrian Club será el lugar donde se llevará a cabo este evento internacional. Ubicado en San Fernando de Henares\, a tan solo 15 minutos del centro de Madrid y a 10 minutos del aeropuerto\, el club cuenta con dos canchas de polo reglamentarias y una de “Beach Polo”\, ofreciendo un espacio de primer nivel para los jugadores. \nFormato del Torneo: \nEl torneo se jugará en un formato de 4 chukkers (periodos) con un nivel de 4 a 6 goles de handicap. Participarán cuatro equipos\, incluyendo uno representando a México y otros dos o tres equipos españoles o combinados europeos. \nPrograma del Evento:\nSábado 14 de Septiembre - Los Mariachis Polo Club Madrid \n13:00 Hrs. Bienvenida\n14:00 Hrs. Show español & mexicano\n14:30 Hrs. Inicio copa subsidiaria\n15:30 Hrs. Divot stomp show y concurso de sombreros (HAT & HORSES)\n16:20 Hrs. Presentación equipos finalistas\n16:30 Hrs. FINAL COPA DE LA HERMANDAD\n17:45 Hrs. Premiación\n18:00 Hrs. Fiesta de celebración  (Tequila\, Mariachi\, Flamenco y DJ)\n20:30 Hrs. Fin de evento en Club\n23:00 Hrs . After Polo (Discoteca en Madrid) \nLa capital de España se prepara para un evento que no solo celebra el deporte\, sino también la rica herencia cultural de ambos países\, prometiendo una experiencia inolvidable para todos los asistentes.
URL:https://fmp.org.mx/evento/copa-de-la-hermandad-madrid/
ATTACH;FMTTYPE=image/jpeg:https://fmp.org.mx/wp-content/uploads/2024/08/WhatsApp-Image-2024-08-02-at-12.22.43-AM.jpeg
END:VEVENT
BEGIN:VEVENT
DTSTART;TZID=America/Chicago:20240914T120000
DTEND;TZID=America/Chicago:20240914T230000
DTSTAMP:20260425T111220
CREATED:20240903T043152Z
LAST-MODIFIED:20240903T043152Z
UID:19451-1726315200-1726354800@fmp.org.mx
SUMMARY:8A. SUMMER POLO CUP
DESCRIPTION:
URL:https://fmp.org.mx/evento/8a-summer-polo-cup/
LOCATION:EL REY POLO COUNTRY CLUB\, RUTA DE LOS CENOTES KM 11\, PUERTO MORELOS\, QUINTANA ROO\, México
ATTACH;FMTTYPE=image/jpeg:https://fmp.org.mx/wp-content/uploads/2024/09/WhatsApp-Image-2024-08-13-at-5.29.17-PM.jpeg
END:VEVENT
BEGIN:VEVENT
DTSTART;TZID=America/Chicago:20241004T080000
DTEND;TZID=America/Chicago:20241006T170000
DTSTAMP:20260425T111220
CREATED:20241001T041428Z
LAST-MODIFIED:20241001T041446Z
UID:19561-1728028800-1728234000@fmp.org.mx
SUMMARY:COPA DE OTOÑO
DESCRIPTION:
URL:https://fmp.org.mx/evento/19561/
LOCATION:CLUB DE POLO DE MONTERREY\, MONTERREY\, NUEVO LEÓN\, México
ATTACH;FMTTYPE=image/jpeg:https://fmp.org.mx/wp-content/uploads/2024/09/WhatsApp-Image-2024-09-30-at-5.58.32-PM.jpeg
END:VEVENT
BEGIN:VEVENT
DTSTART;TZID=America/Chicago:20241024T080000
DTEND;TZID=America/Chicago:20241026T220000
DTSTAMP:20260425T111220
CREATED:20240801T223816Z
LAST-MODIFIED:20240801T230148Z
UID:19314-1729756800-1729980000@fmp.org.mx
SUMMARY:XI COPA DE LA VENDIMIA
DESCRIPTION:
URL:https://fmp.org.mx/evento/xi-copa-de-la-vendimia/
LOCATION:VIÑEDO SAN LUCAS\, San Miguel de Allende\, Guanajuato\, México
ATTACH;FMTTYPE=image/png:https://fmp.org.mx/wp-content/uploads/2024/08/Captura-de-Pantalla-2024-08-01-a-las-23.48.39-1.png
END:VEVENT
BEGIN:VEVENT
DTSTART;VALUE=DATE:20241106
DTEND;VALUE=DATE:20241111
DTSTAMP:20260425T111220
CREATED:20240723T215227Z
LAST-MODIFIED:20240814T001051Z
UID:19253-1730851200-1731283199@fmp.org.mx
SUMMARY:COPA CONADE
DESCRIPTION: 
URL:https://fmp.org.mx/evento/copa-conade-3/
LOCATION:CLUB DE POLO TECAMAC\, TECAMAC\, Estado De México\, México
ATTACH;FMTTYPE=image/jpeg:https://fmp.org.mx/wp-content/uploads/2024/07/WhatsApp-Image-2024-08-12-at-4.47.46-PM.jpeg
END:VEVENT
BEGIN:VEVENT
DTSTART;VALUE=DATE:20241116
DTEND;VALUE=DATE:20241117
DTSTAMP:20260425T111220
CREATED:20240801T224021Z
LAST-MODIFIED:20240801T224021Z
UID:19317-1731715200-1731801599@fmp.org.mx
SUMMARY:SABORES SAN PANCHO
DESCRIPTION:
URL:https://fmp.org.mx/evento/sabores-san-pancho/
LOCATION:TIERRA TROPICAL POLO CLUB
END:VEVENT
BEGIN:VEVENT
DTSTART;TZID=America/Chicago:20241121T120000
DTEND;TZID=America/Chicago:20241130T230000
DTSTAMP:20260425T111220
CREATED:20240814T022301Z
LAST-MODIFIED:20240814T022301Z
UID:19354-1732190400-1733007600@fmp.org.mx
SUMMARY:ABIERTO DE TECÁMAC - POLO FEST
DESCRIPTION:
URL:https://fmp.org.mx/evento/abierto-de-tecamac-polo-fest/
LOCATION:CLUB DE POLO TECAMAC\, TECAMAC\, Estado De México\, México
ATTACH;FMTTYPE=image/png:https://fmp.org.mx/wp-content/uploads/2024/08/Captura-de-Pantalla-2024-08-13-a-las-20.17.56.png
END:VEVENT
BEGIN:VEVENT
DTSTART;TZID=America/Chicago:20241121T150000
DTEND;TZID=America/Chicago:20241123T170000
DTSTAMP:20260425T111220
CREATED:20241112T031603Z
LAST-MODIFIED:20241112T031603Z
UID:19792-1732201200-1732381200@fmp.org.mx
SUMMARY:COPA HERITAGE
DESCRIPTION:
URL:https://fmp.org.mx/evento/copa-heritage/
LOCATION:CLUB DE POLO MORANZA\, TESISTAN\, JALISCO
ATTACH;FMTTYPE=image/jpeg:https://fmp.org.mx/wp-content/uploads/2024/11/WhatsApp-Image-2024-11-07-at-4.40.58-PM.jpeg
END:VEVENT
BEGIN:VEVENT
DTSTART;TZID=America/Chicago:20241227T080000
DTEND;TZID=America/Chicago:20250103T170000
DTSTAMP:20260425T111220
CREATED:20240814T031843Z
LAST-MODIFIED:20250105T185914Z
UID:19373-1735286400-1735923600@fmp.org.mx
SUMMARY:AÑO NUEVO EN CAREYES
DESCRIPTION:
URL:https://fmp.org.mx/evento/copa-ano-nuevo-careyes-3/
LOCATION:COSTA CAREYES POLO CLUB\, CAREYES\, JALISCO\, México
ATTACH;FMTTYPE=image/jpeg:https://fmp.org.mx/wp-content/uploads/2024/10/AÑO-NUEVO-CAREYES-04-A-05.jpeg
END:VEVENT
BEGIN:VEVENT
DTSTART;TZID=America/Chicago:20250106T100000
DTEND;TZID=America/Chicago:20250110T170000
DTSTAMP:20260425T111220
CREATED:20241112T030659Z
LAST-MODIFIED:20241112T030659Z
UID:19786-1736157600-1736528400@fmp.org.mx
SUMMARY:THE GIULIANA CUP  III
DESCRIPTION:
URL:https://fmp.org.mx/evento/the-giuliana-cup-iii/
LOCATION:COSTA CAREYES POLO CLUB\, CAREYES\, JALISCO\, México
ATTACH;FMTTYPE=image/jpeg:https://fmp.org.mx/wp-content/uploads/2024/11/WhatsApp-Image-2024-10-19-at-3.31.26-PM.jpeg
END:VEVENT
BEGIN:VEVENT
DTSTART;TZID=America/Chicago:20250118T120000
DTEND;TZID=America/Chicago:20250118T230000
DTSTAMP:20260425T111220
CREATED:20241112T031201Z
LAST-MODIFIED:20241112T031401Z
UID:19789-1737201600-1737241200@fmp.org.mx
SUMMARY:NATIONS CUP 2025
DESCRIPTION:
URL:https://fmp.org.mx/evento/nations-cup-2025/
LOCATION:EL REY POLO COUNTRY CLUB\, RUTA DE LOS CENOTES KM 11\, PUERTO MORELOS\, QUINTANA ROO\, México
ATTACH;FMTTYPE=image/jpeg:https://fmp.org.mx/wp-content/uploads/2024/11/WhatsApp-Image-2024-10-26-at-2.28.20-PM.jpeg
END:VEVENT
BEGIN:VEVENT
DTSTART;VALUE=DATE:20250125
DTEND;VALUE=DATE:20250126
DTSTAMP:20260425T111220
CREATED:20240801T224103Z
LAST-MODIFIED:20250118T010043Z
UID:19321-1737763200-1737849599@fmp.org.mx
SUMMARY:COCO COPA
DESCRIPTION:
URL:https://fmp.org.mx/evento/coco-copa/
LOCATION:TIERRA TROPICAL POLO CLUB
END:VEVENT
BEGIN:VEVENT
DTSTART;TZID=America/Chicago:20250220T130000
DTEND;TZID=America/Chicago:20250222T230000
DTSTAMP:20260425T111220
CREATED:20240814T000405Z
LAST-MODIFIED:20241017T032729Z
UID:19347-1740056400-1740265200@fmp.org.mx
SUMMARY:17 ANIVERSARIO VIÑEDOS DEL POLO
DESCRIPTION:
URL:https://fmp.org.mx/evento/17-aniversario-vinedos-del-polo/
ATTACH;FMTTYPE=image/jpeg:https://fmp.org.mx/wp-content/uploads/2024/08/17-ANIVERSARIO-VDP.jpeg
END:VEVENT
BEGIN:VEVENT
DTSTART;TZID=America/Chicago:20250305T080000
DTEND;TZID=America/Chicago:20250309T183000
DTSTAMP:20260425T111220
CREATED:20240801T230650Z
LAST-MODIFIED:20250120T220554Z
UID:19333-1741161600-1741545000@fmp.org.mx
SUMMARY:COPA RIBERA DEL DUERO
DESCRIPTION:
URL:https://fmp.org.mx/evento/copa-ribera-del-duero-2/
LOCATION:CLUB DE POLO TECAMAC\, TECAMAC\, Estado De México\, México
ATTACH;FMTTYPE=image/jpeg:https://fmp.org.mx/wp-content/uploads/2024/05/WhatsApp-Image-2024-03-19-at-4.22.13-PM-1.jpeg
END:VEVENT
BEGIN:VEVENT
DTSTART;VALUE=DATE:20250315
DTEND;VALUE=DATE:20250316
DTSTAMP:20260425T111220
CREATED:20240801T224141Z
LAST-MODIFIED:20240801T224141Z
UID:19323-1741996800-1742083199@fmp.org.mx
SUMMARY:COLORES SAN PANCHO
DESCRIPTION:
URL:https://fmp.org.mx/evento/colores-san-pancho/
LOCATION:TIERRA TROPICAL POLO CLUB
END:VEVENT
BEGIN:VEVENT
DTSTART;TZID=America/Chicago:20250410T080000
DTEND;TZID=America/Chicago:20250412T170000
DTSTAMP:20260425T111220
CREATED:20240801T223714Z
LAST-MODIFIED:20250410T043609Z
UID:19312-1744272000-1744477200@fmp.org.mx
SUMMARY:PINK POLO
DESCRIPTION:
URL:https://fmp.org.mx/evento/pink-polo/
LOCATION:CLUB DE POLO TECAMAC\, TECAMAC\, Estado De México\, México
ATTACH;FMTTYPE=image/jpeg:https://fmp.org.mx/wp-content/uploads/2025/04/WhatsApp-Image-2025-04-09-at-22.03.40.jpeg
END:VEVENT
BEGIN:VEVENT
DTSTART;TZID=America/Chicago:20250411T080000
DTEND;TZID=America/Chicago:20250419T170000
DTSTAMP:20260425T111220
CREATED:20240814T030715Z
LAST-MODIFIED:20250410T043700Z
UID:19368-1744358400-1745082000@fmp.org.mx
SUMMARY:XXV COPA AGUA ALTA CAREYES
DESCRIPTION:
URL:https://fmp.org.mx/evento/xxv-copa-agua-alta-careyes/
LOCATION:COSTA CAREYES POLO CLUB\, CAREYES\, JALISCO\, México
ATTACH;FMTTYPE=image/jpeg:https://fmp.org.mx/wp-content/uploads/2025/04/WhatsApp-Image-2025-04-09-at-22.04.49.jpeg
END:VEVENT
BEGIN:VEVENT
DTSTART;VALUE=DATE:20250412
DTEND;VALUE=DATE:20250413
DTSTAMP:20260425T111220
CREATED:20240801T224321Z
LAST-MODIFIED:20250410T043729Z
UID:19327-1744416000-1744502399@fmp.org.mx
SUMMARY:POLO WEEKEND LAS RIBERAS
DESCRIPTION:
URL:https://fmp.org.mx/evento/sonidos-san-pancho/
LOCATION:CENTRO ECUESTRE LAS RIBERAS
ATTACH;FMTTYPE=image/jpeg:https://fmp.org.mx/wp-content/uploads/2025/04/WhatsApp-Image-2025-04-09-at-22.03.40-1.jpeg
END:VEVENT
BEGIN:VEVENT
DTSTART;TZID=America/Chicago:20250501T080000
DTEND;TZID=America/Chicago:20250504T170000
DTSTAMP:20260425T111220
CREATED:20250410T042730Z
LAST-MODIFIED:20250410T043454Z
UID:20112-1746086400-1746378000@fmp.org.mx
SUMMARY:COPA JAGUAR
DESCRIPTION:
URL:https://fmp.org.mx/evento/copa-jaguar/
LOCATION:TIERRA TROPICAL POLO CLUB
ATTACH;FMTTYPE=image/jpeg:https://fmp.org.mx/wp-content/uploads/2025/04/WhatsApp-Image-2025-04-09-at-15.38.49.jpeg
END:VEVENT
BEGIN:VEVENT
DTSTART;TZID=America/Chicago:20250529T080000
DTEND;TZID=America/Chicago:20250601T170000
DTSTAMP:20260425T111220
CREATED:20250410T042327Z
LAST-MODIFIED:20250410T043539Z
UID:20107-1748505600-1748797200@fmp.org.mx
SUMMARY:TRICOPA VIÑEDOS DEL POLO 2025
DESCRIPTION:
URL:https://fmp.org.mx/evento/tricopa-vinedos-del-polo-2025/
LOCATION:VIÑEDOS DEL POLO EL MARQUÉS
ATTACH;FMTTYPE=image/jpeg:https://fmp.org.mx/wp-content/uploads/2025/04/WhatsApp-Image-2025-04-09-at-22.05.22.jpeg
END:VEVENT
BEGIN:VEVENT
DTSTART;TZID=America/Chicago:20250927T140000
DTEND;TZID=America/Chicago:20250927T233000
DTSTAMP:20260425T111220
CREATED:20250909T010423Z
LAST-MODIFIED:20250909T010528Z
UID:20311-1758981600-1759015800@fmp.org.mx
SUMMARY:9a. SUMMER POLO CUP
DESCRIPTION:
URL:https://fmp.org.mx/evento/9a-summer-polo-cup/
LOCATION:EL REY POLO COUNTRY CLUB\, RUTA DE LOS CENOTES KM 11\, PUERTO MORELOS\, QUINTANA ROO\, México
ATTACH;FMTTYPE=image/png:https://fmp.org.mx/wp-content/uploads/2025/09/Captura-de-Pantalla-2025-09-08-a-las-19.04.57.png
END:VEVENT
BEGIN:VEVENT
DTSTART;TZID=America/Chicago:20251009T080000
DTEND;TZID=America/Chicago:20251011T170000
DTSTAMP:20260425T111220
CREATED:20250930T024303Z
LAST-MODIFIED:20250930T033441Z
UID:20356-1759996800-1760202000@fmp.org.mx
SUMMARY:TORNEO DE OTOÑO MTY
DESCRIPTION:
URL:https://fmp.org.mx/evento/torneo-de-otono-mty/
LOCATION:CLUB DE POLO DE MONTERREY\, MONTERREY\, NUEVO LEÓN\, México
ATTACH;FMTTYPE=image/png:https://fmp.org.mx/wp-content/uploads/2025/09/Captura-de-Pantalla-2025-09-29-a-las-20.22.13-1.png
END:VEVENT
BEGIN:VEVENT
DTSTART;TZID=America/Chicago:20251028T120000
DTEND;TZID=America/Chicago:20251101T170000
DTSTAMP:20260425T111220
CREATED:20250917T201138Z
LAST-MODIFIED:20250917T201240Z
UID:20325-1761652800-1762016400@fmp.org.mx
SUMMARY:12va. COPA DE LA VENDIMIA
DESCRIPTION:
URL:https://fmp.org.mx/evento/12va-copa-de-la-vendimia/
LOCATION:VIÑEDO SAN LUCAS\, San Miguel de Allende\, Guanajuato\, México
ATTACH;FMTTYPE=image/jpeg:https://fmp.org.mx/wp-content/uploads/2025/09/WhatsApp-Image-2025-09-17-at-2.01.44-PM.jpeg
END:VEVENT
BEGIN:VEVENT
DTSTART;TZID=America/Chicago:20251108T110000
DTEND;TZID=America/Chicago:20251108T180000
DTSTAMP:20260425T111220
CREATED:20251105T194915Z
LAST-MODIFIED:20251105T195011Z
UID:20387-1762599600-1762624800@fmp.org.mx
SUMMARY:WINTER OPEN- LAS RIBERAS
DESCRIPTION:Hermosillo\, Son.
URL:https://fmp.org.mx/evento/winter-open/
LOCATION:CENTRO ECUESTRE LAS RIBERAS
ATTACH;FMTTYPE=image/jpeg:https://fmp.org.mx/wp-content/uploads/2025/11/WhatsApp-Image-2025-11-05-at-1.40.11-PM.jpeg
END:VEVENT
BEGIN:VEVENT
DTSTART;TZID=America/Chicago:20251112T120000
DTEND;TZID=America/Chicago:20251122T170000
DTSTAMP:20260425T111220
CREATED:20250909T011107Z
LAST-MODIFIED:20250911T043124Z
UID:20315-1762948800-1763830800@fmp.org.mx
SUMMARY:ABIERTO DE TECÁMAC 2025
DESCRIPTION:
URL:https://fmp.org.mx/evento/copa-conade-4/
LOCATION:CLUB DE POLO TECAMAC\, TECAMAC\, Estado De México\, México
ATTACH;FMTTYPE=image/jpeg:https://fmp.org.mx/wp-content/uploads/2025/09/WhatsApp-Image-2025-09-10-at-10.27.43-PM.jpeg
END:VEVENT
BEGIN:VEVENT
DTSTART;TZID=America/Chicago:20251115T100000
DTEND;TZID=America/Chicago:20251116T170000
DTSTAMP:20260425T111220
CREATED:20251105T200920Z
LAST-MODIFIED:20251105T200920Z
UID:20391-1763200800-1763312400@fmp.org.mx
SUMMARY:POLO INVITATIONAL VALLE DE BRAVO
DESCRIPTION:
URL:https://fmp.org.mx/evento/polo-invitational-valle-de-bravo/
LOCATION:VALLE DE BRAVO POLO CLUB\, Carretera Valle de Bravo-Temascaltepec\, Temascaltepec\, 51200\, Mexico
ATTACH;FMTTYPE=image/jpeg:https://fmp.org.mx/wp-content/uploads/2025/11/WhatsApp-Image-2025-11-05-at-2.06.13-PM.jpeg
END:VEVENT
BEGIN:VEVENT
DTSTART;TZID=America/Chicago:20251122T080000
DTEND;TZID=America/Chicago:20251122T170000
DTSTAMP:20260425T111220
CREATED:20250930T024218Z
LAST-MODIFIED:20250930T033815Z
UID:20352-1763798400-1763830800@fmp.org.mx
SUMMARY:POLO FEST 2025
DESCRIPTION:
URL:https://fmp.org.mx/evento/polo-fest-2025/
LOCATION:CAMPO MARTE\, CAMPO MARTE\, CDMX\, CDMX\, Mexico
ATTACH;FMTTYPE=image/png:https://fmp.org.mx/wp-content/uploads/2025/09/Captura-de-Pantalla-2025-09-29-a-las-20.22.54.png
END:VEVENT
BEGIN:VEVENT
DTSTART;TZID=America/Chicago:20251122T080000
DTEND;TZID=America/Chicago:20251128T170000
DTSTAMP:20260425T111220
CREATED:20250930T023337Z
LAST-MODIFIED:20250930T023337Z
UID:20339-1763798400-1764349200@fmp.org.mx
SUMMARY:THANKSGIVING TOURNAMENT CAREYES
DESCRIPTION:
URL:https://fmp.org.mx/evento/thanksgiving-tournament-careyes/
LOCATION:COSTA CAREYES POLO CLUB\, CAREYES\, JALISCO\, México
END:VEVENT
END:VCALENDAR